BEGIN:VCALENDAR
VERSION:2.0
PRODID:-//LA RUCHE - ECPv4.7.4//NONSGML v1.0//EN
CALSCALE:GREGORIAN
METHOD:PUBLISH
X-WR-CALNAME:LA RUCHE
X-ORIGINAL-URL:https://www.cslaruche.fr
X-WR-CALDESC:évènements pour LA RUCHE
BEGIN:VEVENT
DTSTART;TZID=Europe/Paris:20221120T110000
DTEND;TZID=Europe/Paris:20221120T170000
DTSTAMP:20260423T103910
CREATED:20221026T194405Z
LAST-MODIFIED:20221121T100411Z
UID:16880-1668942000-1668963600@www.cslaruche.fr
SUMMARY:Chloé et le Poum Poum Tchack
DESCRIPTION:Chloé et le Poum Poum Tchack\n  \nCette journée se propose en deux temps .  \nLe matin\, vous assisterez à un atelier proposé par les artistes eux mêmes et l’aprés midi à leur représentation. Immersion dans les coulisses d’une pratique ! \n  \nEntre 11h et 11h45 : \nAtelier dédié à la pratique du Human beatbox (« boîte à rythmes humaines ») avec Gérald (Poum Poum Tchac). Vous découvrirez comment faire de la musique et imiter des instruments avec pour seul outil votre bouche. \n  \nA 17h :  \nSpectacle de Human Beatbox \n« Chers petits amis\, je vais vous conter l’histoire de Chloé une petite fille qui voulait devenir une véritable enfant modèle. Accompagnée du Poum Poum Tchac\, sa peluche adorée\, elle allait rencontrer des personnages féériques et vivre des aventures fantastiques pour peut être au bout du chemin découvrir enfin la sagesse tant recherchée….». \nInterprètes: Christophe Aubert\, Gérald Aubert \nRégie: Gilles Frouin \nRegard extérieur: Xavier Pourcher\, Xavier Berthelot\, Titus\, Phil Devaud \nConstruction décor: Francois Villain \nCréation lumière (version salle): Pierre Crasnier \nProduction: Lez’Arts Vers… \nAvec le soutien: Ville d’Angers \n \n  \n  \nINFORMATIONS PRATIQUES\n  \n\nEn famille\, à partir de 6 ans\nTous les membres de la famille sont bienvenus\n5€ par personne pour 1 séance\, 10€ pour atelier et spectacle. \nSauf exceptions\, adhésion obligatoire à LA RUCHE : 5 €.  Une seule adhésion par famille et par an. Si vous avez pris une adhésion dans le cadre de nos ateliers à l’année\, vous n’êtes pas concernés. Plus d’informations en cliquant ICI\nNouveau ! Paiement possible par Carte Bancaire  \n\n  \nPRÉCAUTIONS COVID-19 :\n\nLavez-vous régulièrement les mains\, toussez et éternuez dans votre coude.\nPortez un masque si vous êtes symptomatique ou à risque.\nCes recommandations peuvent évoluer en fonction de l’intensité de l’épidémie et des contraintes sanitaires.\n\n
URL:https://www.cslaruche.fr/evenement/poum-poum-tchack/
LOCATION:Le Val’Rhonne\, Allée de l'Europe\, Moncé en belin\, 72220
ATTACH;FMTTYPE=image/jpeg:https://www.cslaruche.fr/wp-content/uploads/2022/10/chloé-et-le-poum-poum-tchac11.jpg
ORGANIZER;CN="LA%20RUCHE%2C%20Centre%20Social":MAILTO:accueil@cslaruche.fr
END:VEVENT
END:VCALENDAR