BEGIN:VCALENDAR
VERSION:2.0
PRODID:-//LA RUCHE - ECPv4.7.4//NONSGML v1.0//EN
CALSCALE:GREGORIAN
METHOD:PUBLISH
X-WR-CALNAME:LA RUCHE
X-ORIGINAL-URL:https://www.cslaruche.fr
X-WR-CALDESC:évènements pour LA RUCHE
BEGIN:VEVENT
DTSTART;TZID=Europe/Paris:20231207T194500
DTEND;TZID=Europe/Paris:20231207T220000
DTSTAMP:20260421T093921
CREATED:20231201T115041Z
LAST-MODIFIED:20231211T115738Z
UID:19286-1701978300-1701986400@www.cslaruche.fr
SUMMARY:Rage d'aidants
DESCRIPTION:Rage d’aidants\n  \nReprésentation gratuite par Ann-Marie TEINTURIER \nsuivi de l‘intervention du Président de France Alzheimer Sarthe: Aidants\, comment accompagner ? \n  \nInformations pratiques\n  \n\nEntrée gratuite\nOuvert à toutes et tous\nPossibilité de garde d’enfants gratuite (sur inscription)\nRenseignement auprès d’Aurélie Galpin de la MSA: 06 08 82 20 47\n\n  \n \n
URL:https://www.cslaruche.fr/evenement/rage-daidants/
LOCATION:LA RUCHE\, Espace du Belin\, 34 rue des Frères Bailleul\, Laigné-Saint-Gervais\, 72220\, France
ATTACH;FMTTYPE=image/jpeg:https://www.cslaruche.fr/wp-content/uploads/2023/12/1.jpg
ORGANIZER;CN="LA%20RUCHE%2C%20Centre%20Social":MAILTO:accueil@cslaruche.fr
END:VEVENT
END:VCALENDAR