BEGIN:VCALENDAR
VERSION:2.0
PRODID:-//LA RUCHE - ECPv4.7.4//NONSGML v1.0//EN
CALSCALE:GREGORIAN
METHOD:PUBLISH
X-WR-CALNAME:LA RUCHE
X-ORIGINAL-URL:https://www.cslaruche.fr
X-WR-CALDESC:évènements pour LA RUCHE
BEGIN:VEVENT
DTSTART;TZID=Europe/Paris:20241002T143000
DTEND;TZID=Europe/Paris:20241002T170000
DTSTAMP:20260421T050751
CREATED:20240917T070916Z
LAST-MODIFIED:20241114T131410Z
UID:20229-1727879400-1727888400@www.cslaruche.fr
SUMMARY:Séniors et sécurité routière
DESCRIPTION:Mercredi 2 octobre dès 14h30 à la salle des fêtes de la Belinoise\, Rue de la Noé Gourdé\, à Laigné-en-Belin : \nUne intervention  « Seniors et sécurité routière\, comment rester mobile à tout âge » \nEn partenariat avec La Ruche Centre Social\, les CCAS des communes de Laigné et de St-Gervais en Belin\, souhaitent proposer un temps orienté vers les seniors et axé sur la prévention\, les conseils et la sécurité routière envers les plus de 55 ans. Cette intervention sera menée par Mr Franck Maladrie intervenant IDSR. \nInformations auprès de La Ruche Centre Social 02 43 21 79 68 ou accueil@cslaruche.fr \nINFORMATIONS PRATIQUES \n\nPour les jeunes de plus de 60 ans\nSans inscription\nGratuit\n\n
URL:https://www.cslaruche.fr/evenement/seniors-et-securite-routiere/
LOCATION:La Belinoise\, rue de la Noé Gourdé\, Laigné en Belin\, 72220\, France
ATTACH;FMTTYPE=image/png:https://www.cslaruche.fr/wp-content/uploads/2024/09/securite-routiere-web.png
ORGANIZER;CN="LA%20RUCHE%2C%20Centre%20Social":MAILTO:accueil@cslaruche.fr
END:VEVENT
END:VCALENDAR