BEGIN:VCALENDAR
VERSION:2.0
PRODID:-//LA RUCHE - ECPv4.7.4//NONSGML v1.0//EN
CALSCALE:GREGORIAN
METHOD:PUBLISH
X-WR-CALNAME:LA RUCHE
X-ORIGINAL-URL:https://www.cslaruche.fr
X-WR-CALDESC:évènements pour LA RUCHE
BEGIN:VEVENT
DTSTART;TZID=Europe/Paris:20250523T200000
DTEND;TZID=Europe/Paris:20250523T220000
DTSTAMP:20260420T180645
CREATED:20250401T132940Z
LAST-MODIFIED:20250526T074003Z
UID:20776-1748030400-1748037600@www.cslaruche.fr
SUMMARY:Soirée de l’impro
DESCRIPTION:Soirée de l’impro\n  \nNotre temps fort du mois de mai avec la représentation de l’atelier de théâtre d’impro d’Adélie suivi du show des Candiratons ! \n  \n  \nINFORMATIONS PRATIQUES \n  \n\nPour toute la famille\nSur inscription\, jauge limitée \nTarif au chapeau\n\n
URL:https://www.cslaruche.fr/evenement/soiree-de-limpro/
LOCATION:Auditorium de l’école de musique\, Laigné en Belin
ATTACH;FMTTYPE=image/jpeg:https://www.cslaruche.fr/wp-content/uploads/2025/03/Candiraton-spectacle-impro-scaled.jpg
ORGANIZER;CN="LA%20RUCHE%2C%20Centre%20Social":MAILTO:accueil@cslaruche.fr
END:VEVENT
END:VCALENDAR