BEGIN:VCALENDAR
VERSION:2.0
PRODID:-//LA RUCHE - ECPv4.7.4//NONSGML v1.0//EN
CALSCALE:GREGORIAN
METHOD:PUBLISH
X-WR-CALNAME:LA RUCHE
X-ORIGINAL-URL:https://www.cslaruche.fr
X-WR-CALDESC:évènements pour LA RUCHE
BEGIN:VEVENT
DTSTART;TZID=Europe/Paris:20221207T100000
DTEND;TZID=Europe/Paris:20221207T110000
DTSTAMP:20260422T155357
CREATED:20221121T103255Z
LAST-MODIFIED:20221212T082007Z
UID:17164-1670407200-1670410800@www.cslaruche.fr
SUMMARY:Spectacle de fin d’année
DESCRIPTION:Spectacle Petite Enfance suivi d’un goûter\nCo-organisé par les professionnels de l’Espace du Belin \nNous sommes de retour pour une nouvelle matinée spectaculaire marquant la fin d’année !  \nCette fois ci\, nous avons adapté l’album jeunesse “ Bonjour Père Noël ! “ de Michaël Escoffier et Mathieu Maudet pour vous partager une mise en scène mélant chant et théatre.  \n  \nINFORMATIONS PRATIQUES\n  \n\nEn famille\, de la naissance à 4 ans. \nGratuit\nRéservation obligatoire\, places limitées\nMembres de la famille et assistantes maternelles bienvenues\nSauf exceptions\, adhésion obligatoire à LA RUCHE : 5 €.  Une seule adhésion par famille et par an. Si vous avez pris une adhésion dans le cadre de nos ateliers à l’année\, vous n’êtes pas concernés. Plus d’informations en cliquant ICI\n\nPRÉCAUTIONS COVID-19 :\n\nLavez-vous régulièrement les mains\, toussez et éternuez dans votre coude.\nPortez un masque si vous êtes symptomatique ou à risque.\nCes recommandations peuvent évoluer en fonction de l’intensité de l’épidémie et des contraintes sanitaires.\n\n
URL:https://www.cslaruche.fr/evenement/spectacle-de-fin-dannee/
LOCATION:La Belinoise\, rue de la Noé Gourdé\, Laigné en Belin\, 72220\, France
ATTACH;FMTTYPE=image/jpeg:https://www.cslaruche.fr/wp-content/uploads/2022/11/spectacle-de-Noel.jpg
ORGANIZER;CN="LA%20RUCHE%2C%20Centre%20Social":MAILTO:accueil@cslaruche.fr
END:VEVENT
END:VCALENDAR