BEGIN:VCALENDAR
VERSION:2.0
PRODID:-//LA RUCHE - ECPv4.7.4//NONSGML v1.0//EN
CALSCALE:GREGORIAN
METHOD:PUBLISH
X-WR-CALNAME:LA RUCHE
X-ORIGINAL-URL:https://www.cslaruche.fr
X-WR-CALDESC:évènements pour LA RUCHE
BEGIN:VEVENT
DTSTART;TZID=Europe/Paris:20231030T093000
DTEND;TZID=Europe/Paris:20231102T113000
DTSTAMP:20260420T203842
CREATED:20231005T071918Z
LAST-MODIFIED:20240105T113945Z
UID:19128-1698658200-1698924600@www.cslaruche.fr
SUMMARY:Stage multisports
DESCRIPTION:Stage multisports\n  \nConfiez vos enfants à Charlène pour ces trois matinées de vacances sportives ! \n  \nAu programme : \nLundi 30 octobre : Handball au Gymnase de Laigné \nMardi 31 octobre : Lutte/judo à LA RUCHE \nJeudi 2 novembre : Tournoi de multisports au Gymnase de Laigné \n  \nInformations pratiques :\n  \n\nDe 9h30 à 11h30\nPour les enfants entre 6 et 9 ans\n10€ pour les trois matinées\n\n
URL:https://www.cslaruche.fr/evenement/stage-multisports/
LOCATION:Complexe Jean Claverie\, 28B Rue des Frères Bailleul\, Laigné en Belin\, 72220\, France
ATTACH;FMTTYPE=image/jpeg:https://www.cslaruche.fr/wp-content/uploads/2020/06/LA-RUCHE-Multisport-5S3A9736.jpg
ORGANIZER;CN="LA%20RUCHE%2C%20Centre%20Social":MAILTO:accueil@cslaruche.fr
END:VEVENT
END:VCALENDAR