BEGIN:VCALENDAR
VERSION:2.0
PRODID:-//LA RUCHE - ECPv4.7.4//NONSGML v1.0//EN
CALSCALE:GREGORIAN
METHOD:PUBLISH
X-WR-CALNAME:LA RUCHE
X-ORIGINAL-URL:https://www.cslaruche.fr
X-WR-CALDESC:évènements pour LA RUCHE
BEGIN:VEVENT
DTSTART;TZID=Europe/Paris:20230202T190000
DTEND;TZID=Europe/Paris:20230202T220000
DTSTAMP:20260421T143726
CREATED:20230105T112701Z
LAST-MODIFIED:20230313T083112Z
UID:17531-1675364400-1675375200@www.cslaruche.fr
SUMMARY:Tente rouge
DESCRIPTION:Tente rouge\n  \nLes Tentes Rouges nous viennent d’une tradition ancestrale. Il s’agit d’un temps d’échanges entre femmes où bienveillance\, écoute et confidences sont au rendez vous. \nCe format\, conçu sur mesure pour se sentir à l’aise\, permet ainsi de développer l’entraide entre jeunes femmes\, femmes\, mères\, grands-mères … \nIl n’y a pas de sujets prédéfinis ; chacune pourra partager ses joies et ses peines du moment. \n  \nDe par son habitude de la pratique et ses éléments de décors\, Dorine Dherlin apportera une ambiance chaleureuse à ce moment et nous partagera les quelques consignes à respecter pour créer notre cadre de confiance. \nPossibilité d’apporter boissons et petites choses à grignoter \n  \nINFORMATIONS PRATIQUES\n  \n\nAdultes\, entre femmes\n10€ par personne pour les familles de notre territoire d’intervention (Laigné en Belin\, Saint Gervais en Belin\, Ecommoy\, Teloché\, Moncé en Belin et Saint Ouen en Belin) – 20€ par personne pour les autres familles. + d’informations en cliquant ICI\nSauf exceptions\, adhésion obligatoire à LA RUCHE : 5 €.  Une seule adhésion par famille et par an. Si vous avez pris une adhésion dans le cadre de nos ateliers à l’année\, vous n’êtes pas concernés. Plus d’informations en cliquant ICI\nPaiement possible par Carte Bancaire  \n\n  \nPRÉCAUTIONS COVID-19 :\n\nLavez-vous régulièrement les mains\, toussez et éternuez dans votre coude.\nPortez un masque si vous êtes symptomatique ou à risque.\nCes recommandations peuvent évoluer en fonction de l’intensité de l’épidémie et des contraintes sanitaires.\n\n
URL:https://www.cslaruche.fr/evenement/tente-rouge-2/
LOCATION:Le Val’Rhonne\, Allée de l'Europe\, Moncé en belin\, 72220
ATTACH;FMTTYPE=image/jpeg:https://www.cslaruche.fr/wp-content/uploads/2023/01/tente-rouge.jpg
ORGANIZER;CN="LA%20RUCHE%2C%20Centre%20Social":MAILTO:accueil@cslaruche.fr
END:VEVENT
END:VCALENDAR