BEGIN:VCALENDAR
VERSION:2.0
PRODID:-//LA RUCHE - ECPv4.7.4//NONSGML v1.0//EN
CALSCALE:GREGORIAN
METHOD:PUBLISH
X-WR-CALNAME:LA RUCHE
X-ORIGINAL-URL:https://www.cslaruche.fr
X-WR-CALDESC:évènements pour LA RUCHE
BEGIN:VEVENT
DTSTART;TZID=Europe/Paris:20241003T190000
DTEND;TZID=Europe/Paris:20241003T220000
DTSTAMP:20260421T033617
CREATED:20240826T080000Z
LAST-MODIFIED:20241114T131404Z
UID:20144-1727982000-1727992800@www.cslaruche.fr
SUMMARY:Tente Rouge
DESCRIPTION:Avec Dorine Dherlin\, doula et hypnothérapeute  \nLes Tentes Rouges nous viennent d’une tradition ancestrale. \nIl s’agit d’un temps d’échanges entre femmes où bienveillance\, écoute et confidences sont au rendez-vous. \n Ce format\, conçu sur mesure pour se sentir à l’aise\, permet ainsi de développer l’entraide entre jeunes femmes\, femmes\, mères\, grands-mères … \nIl n’y a pas de sujets prédéfinis ; chacune pourra partager ses joies et ses peines du moment.  \nDe par son habitude de la pratique et ses éléments de décors\, Dorine Dherlin apportera une ambiance chaleureuse à ce moment et nous partagera les quelques consignes à respecter pour créer notre cadre de confiance. \nPensez à apporter coussins\, plaids\, petites choses à partager pour être tout à fait confort.  \nINFORMATIONS PRATIQUES \n\nEntre femmes\, à partir de 18 ans.\nSur inscription\, jauge limitée\n10€ par personne pour les familles de notre territoire d’intervention (Laigné en Belin\, Saint Gervais en Belin\, Ecommoy\, Teloché\, Moncé en Belin\, Saint Ouen en Belin\, Marigné Laillé et Saint Biez en Belin ) –20 € par personne pour les autres familles. + d’informations en cliquant ICI\nSauf exceptions\, adhésion obligatoire à LA RUCHE : 5 €.  Une seule adhésion par famille et par an. Si vous avez pris une adhésion dans le cadre de nos ateliers à l’année\, vous n’êtes pas concernés. Plus d’informations en cliquant ICI\nPaiement possible par Carte Bancaire  \n\n
URL:https://www.cslaruche.fr/evenement/tente-rouge-7/
LOCATION:Multi accueil\, Chemin de l’Abreuvoir\, Ecommoy\, 72220\, France
ATTACH;FMTTYPE=image/jpeg:https://www.cslaruche.fr/wp-content/uploads/2024/07/tente-rouge-rotated.jpg
ORGANIZER;CN="LA%20RUCHE%2C%20Centre%20Social":MAILTO:accueil@cslaruche.fr
END:VEVENT
END:VCALENDAR