BEGIN:VCALENDAR
VERSION:2.0
PRODID:-//LA RUCHE - ECPv4.7.4//NONSGML v1.0//EN
CALSCALE:GREGORIAN
METHOD:PUBLISH
X-WR-CALNAME:LA RUCHE
X-ORIGINAL-URL:https://www.cslaruche.fr
X-WR-CALDESC:évènements pour LA RUCHE
BEGIN:VEVENT
DTSTART;TZID=Europe/Paris:20241009T104000
DTEND;TZID=Europe/Paris:20241009T113000
DTSTAMP:20260421T050603
CREATED:20240826T080038Z
LAST-MODIFIED:20241114T131358Z
UID:20147-1728470400-1728473400@www.cslaruche.fr
SUMMARY:Un atelier dans l’expo
DESCRIPTION:Chaque année\, au retour des vacances\, l’ile Moulinsart dédie son espace d’exposition aux jeunes enfants.  \nC’est Lucie Felix\, auteure de BD\, illustratrice et artiste plasticienne qui a\, cette fois-ci\, imaginé les œuvres qui nous attendent. Elle sera présente pour nous partager ses mystères.  \nOn est très content de la rencontrer… d’autant que Nicolas nous a lu un de ses albums cette année 🙂  \nINFORMATIONS PRATIQUES \n\nEn famille\, de 6 mois à 5 ans\nSur inscription\, jauge limitée\nGratuit\nTous les membres de la famille sont bienvenus\n\n
URL:https://www.cslaruche.fr/evenement/toc-toc-toc-un-atelier-dans-lexpo/
LOCATION:île Moulinsart\, Fillé sur Sarthe
ORGANIZER;CN="LA%20RUCHE%2C%20Centre%20Social":MAILTO:accueil@cslaruche.fr
END:VEVENT
END:VCALENDAR