BEGIN:VCALENDAR
VERSION:2.0
PRODID:-//LA RUCHE - ECPv4.7.4//NONSGML v1.0//EN
CALSCALE:GREGORIAN
METHOD:PUBLISH
X-WR-CALNAME:LA RUCHE
X-ORIGINAL-URL:https://www.cslaruche.fr
X-WR-CALDESC:évènements pour LA RUCHE
BEGIN:VEVENT
DTSTART;TZID=Europe/Paris:20230204T100000
DTEND;TZID=Europe/Paris:20230204T113000
DTSTAMP:20260421T131206
CREATED:20230105T115331Z
LAST-MODIFIED:20230227T101742Z
UID:17566-1675504800-1675510200@www.cslaruche.fr
SUMMARY:Tout en carton
DESCRIPTION:Tout en carton\n  \nCo-organisé et co-animé avec le multi-accueil de Laigné-St Gervais \nAtelier construction grandeur nature. Nous vous invitons vous et votre enfant à venir jouer aux petits maçons avec des cartons de toute taille. \nAu programme\, constructions de cabanes\, de tunnels\, et autres… Une véritable ville dans laquelle vos enfants pourront se promener\, imaginer et rire ! \n  \nINFORMATIONS PRATIQUES\n  \n\nEn famille\, de 0 à 3 ans\nGratuit  \nTous les membres de la famille sont bienvenus\nSauf exceptions\, adhésion obligatoire à LA RUCHE : 5 €.  Une seule adhésion par famille et par an. Si vous avez pris une adhésion dans le cadre de nos ateliers à l’année\, vous n’êtes pas concernés. Plus d’informations en cliquant ICI\nPaiement possible par Carte Bancaire  \n\n  \nPRÉCAUTIONS COVID-19 :\n\nLavez-vous régulièrement les mains\, toussez et éternuez dans votre coude.\nPortez un masque si vous êtes symptomatique ou à risque.\n\n\n\nCes recommandations peuvent évoluer en fonction de l’intensité de l’épidémie et des contraintes sanitaires.\n\n\n\n\n
URL:https://www.cslaruche.fr/evenement/tout-en-carton/
LOCATION:Espace du Belin\, 34 rue des Frères Bailleul\, Laigné en Belin\, 72220\, France
ATTACH;FMTTYPE=image/jpeg:https://www.cslaruche.fr/wp-content/uploads/2023/01/tout-en-carton.jpg
ORGANIZER;CN="LA%20RUCHE%2C%20Centre%20Social":MAILTO:accueil@cslaruche.fr
END:VEVENT
END:VCALENDAR